<?xml version="1.0" encoding="UTF-8"?>
<CoverageDescription xmlns="http://www.opengis.net/wcs"
 xmlns:gml="http://www.opengis.net/gml"
 xmlns:xlink="http://www.w3.org/1999/xlink"
 xmlns:xsi="http://www.w3.org/2001/XMLSchema-instance"
 xsi:schemaLocation="http://www.opengis.net/wcs http://schemas.opengis.net/wcs/1.0.0/describeCoverage.xsd" version="1.0.0">
<CoverageOffering>
    <metadataLink about="http://igear.aragon.es"/>
    <name>2</name>
    <label>CARTO_RASTER.MDE_25m_25830_2015</label>
    <lonLatEnvelope srsName="urn:ogc:def:crs:OGC:1.3:CRS84">
      <gml:pos dimension="2">-2.19101517642891519 39.8095982197907716</gml:pos>
      <gml:pos dimension="2">0.80377067577125505 42.9433915711309595</gml:pos>
    </lonLatEnvelope>
    <domainSet>
      <spatialDomain>
        <gml:Envelope srsName="EPSG:25830">
          <gml:pos dimension="2">569192.355300000054 4412927.45770000014</gml:pos>
          <gml:pos dimension="2">810642.355300000054 4754877.45770000014</gml:pos>
        </gml:Envelope>
        <gml:RectifiedGrid srsName="EPSG:25830" dimension="2">
          <gml:limits>
            <gml:GridEnvelope>
              <gml:low>0 0</gml:low> 
              <gml:high>9657 13677</gml:high>
            </gml:GridEnvelope>
          </gml:limits>
          <gml:axisName>Raster_Pixel_Columns(X-axis)</gml:axisName>
          <gml:axisName>Raster_Pixel_Rows(Y-axis)</gml:axisName>
          <gml:origin>
            <gml:pos>569204.855300000054 4754864.95770000014</gml:pos>
          </gml:origin>
          <gml:offsetVector dimension="2">25 0</gml:offsetVector>
          <gml:offsetVector dimension="2">0 -25</gml:offsetVector>
        </gml:RectifiedGrid>
      </spatialDomain>
    </domainSet>
    <rangeSet>
      <RangeSet>
        <name>RangeSet_2</name>
        <label>CARTO_RASTER.MDE_25m_25830_2015 RangeSet</label>
      <axisDescription>
          <AxisDescription>
            <name>Band</name>
            <label>Band Numbers</label>
            <values>
              <singleValue>1</singleValue>
            </values>
          </AxisDescription>
      </axisDescription>
      </RangeSet>
    </rangeSet>
    <dimensionLimit>
      <rows>1024</rows>
      <columns>1024</columns>
    </dimensionLimit>
    <supportedCRSs>
      <requestResponseCRSs>EPSG:4326</requestResponseCRSs>
      <requestResponseCRSs>EPSG:25830</requestResponseCRSs>
      <nativeCRSs>EPSG:25830</nativeCRSs>
    </supportedCRSs>
    <supportedFormats nativeFormat="GeoTIFF">
  <formats>GeoTIFF</formats>
  <formats>HDF</formats>
  <formats>JPEG2000</formats>
    </supportedFormats>
    <supportedInterpolations default="nearest neighbor">
      <interpolationMethod>nearest neighbor</interpolationMethod>
      <interpolationMethod>bilinear</interpolationMethod>
      <interpolationMethod>bicubic</interpolationMethod>
    </supportedInterpolations>
</CoverageOffering>
</CoverageDescription>
